BEGIN:VCALENDAR
VERSION:2.0
PRODID:https://github.com/derhansen/sf_event_mgt
METHOD:PUBLISH
BEGIN:VEVENT
UID:763-690@www.wieselburg.gv.at
CLASS: PUBLIC
SUMMARY:Wanderung Bosruck
DESCRIPTION:Bergwanderung auf den Bosruck (1.992 m) Vom Pyhrnpass (954 m) z
 ur Fuchsalm (1.051 m), Lahnerkogel (1.854 m), (Kitzstein 1.925 m), Bosruck
  (1.992 m) - selber Rückweg. Ab Lahnerkogel absolute Trittsicherheit und 
 Schwindelfreiheit erforderlich - Gratwanderung!\n\nGehzeit: ca. 6 Stunden 
 Auf- und Abstieg: 1.440 Höhenmeter, 10,6 km\n\nTreffpunkt: Parkplatz "Sta
 dtwald" Bahnhof Anmeldung, Ansprechperson und Begleitung: Harald Kupetz (0
  650) 663 09 77\n\nAnmeldeschluss: 21. Juli 2023
LOCATION:Ennstaler Alpen
DTSTAMP:20230712T054440Z
DTSTART:20230722T040000Z
END:VEVENT
END:VCALENDAR