BEGIN:VCALENDAR
VERSION:2.0
PRODID:https://github.com/derhansen/sf_event_mgt
METHOD:PUBLISH
BEGIN:VEVENT
UID:1729-690@www.wieselburg.gv.at
CLASS: PUBLIC
SUMMARY:Messeflohmarkt
DESCRIPTION:Samstag, 21. März- 8.00 bis 16.00 Uhr Sonntag, 22. März- 8.00
  bis 14.00 Uhr
LOCATION:Messegelände Wieselburg - Europa-Halle (Halle 5)
DTSTAMP:20251117T145115Z
DTSTART:20260321T070000Z
DTEND:20260322T130000Z
END:VEVENT
END:VCALENDAR