BEGIN:VCALENDAR
VERSION:2.0
PRODID:https://github.com/derhansen/sf_event_mgt
METHOD:PUBLISH
BEGIN:VEVENT
UID:1104-690@www.wieselburg.gv.at
CLASS: PUBLIC
SUMMARY:Kinovorführung „Wieselburg in den 40er bis 70er Jahren"
DESCRIPTION:Am 15. August feiert um 19.30 Uhr im KINO mal vier der Film „
 Wieselburg 1944 – 1976“ Premiere. Gerhard Bauer, Sohn des ehemaligen G
 emeinderates Franz Bauer und Produzent des Filmes „Wieselburg 1960 - 196
 5, a documentary by Ing. Franz Bauer“ wird an diesem Abend exklusiv in W
 ieselburg seinen neuen Film präsentieren, der bisher unveröffentlichte E
 inblicke in das Wieselburg der 40er, 50er, 60er und 70er Jahre bietet.\n\n
 Eintritt frei!\n\nAnmeldung unter: m.schrabauer@wieselburg.at bzw. (0 7416
 ) 523 19 - 18
LOCATION:KINO mal vier Wieselburg
DTSTAMP:20240719T085801Z
DTSTART:20240815T173000Z
END:VEVENT
END:VCALENDAR