BEGIN:VCALENDAR
VERSION:2.0
PRODID:https://github.com/derhansen/sf_event_mgt
METHOD:PUBLISH
BEGIN:VEVENT
UID:572-690@www.wieselburg.gv.at
CLASS: PUBLIC
SUMMARY:BIO ÖSTERREICH Festtage Wieselburg
DESCRIPTION:Drei Tage, an denen man Bio LIVE erleben kann. Zeitgleich finde
 t der Markt „Manufaktur & Handwerk“ statt.\n\nÖffnungszeiten: Freitag
 , 12.00 bis 18.00 Uhr Samstag, 10.00 bis 18.00 Uhr Sonntag, 10.00 bis 17.0
 0 Uhr\n\nNähere Informationen unter: www.messewieselburg.at
LOCATION:Messegelände Wieselburg
DTSTAMP:20241009T065748Z
DTSTART:20241115T110000Z
DTEND:20241117T160000Z
END:VEVENT
END:VCALENDAR