BEGIN:VCALENDAR
VERSION:2.0
PRODID:https://github.com/derhansen/sf_event_mgt
METHOD:PUBLISH
BEGIN:VEVENT
UID:253-690@www.wieselburg.gv.at
CLASS: PUBLIC
SUMMARY:AB HOF - Spezialmesse für bäuerliche Direktvermarktung
DESCRIPTION:AB HOF - Spezialmesse für bäuerliche Direktvermarktung Alles 
 von und alles für die bäuerliche Direktvermarktung gibt es auf der AB HO
 F – Spezialmesse für bäuerliche Direktvermarktung am Messegelände in 
 Wieselburg. Die Messe bietet von 6. bis 9. März neben einer umfangreichen
  Ausstellung auch ein hochkarätiges Rahmenprogramm.\n\nÖffnungszeiten:\n
 \nFachausstellung (Halle 3-NV Forum bis Halle 9) Freitag bis Montag 09.00 
 bis 17.00 Uhr\n\nKonsumententeil (Halle 10 & Halle 11) Freitag und Sonntag
  09.00 bis 18.00 Uhr  Samstag (Steirerabend) 09.00 bis 24.00 Uhr (Halle 1
 1) bzw. 9.00 bis 22.00 Uhr (Halle 10) Montag 09.00 bis 17.00 Uhr\n\nMehr I
 nformationen finden Sie unter: www.messewieselburg.at 
LOCATION:Messegelände Wieselburg
DTSTAMP:20260113T100319Z
DTSTART:20260306T080000Z
DTEND:20260309T160000Z
END:VEVENT
END:VCALENDAR